BEGIN:VCALENDAR
VERSION:2.0
PRODID:-//Sales Tax Advisory Network - ECPv6.15.20//NONSGML v1.0//EN
CALSCALE:GREGORIAN
METHOD:PUBLISH
X-ORIGINAL-URL:https://salestaxlady.com
X-WR-CALDESC:Events for Sales Tax Advisory Network
REFRESH-INTERVAL;VALUE=DURATION:PT1H
X-Robots-Tag:noindex
X-PUBLISHED-TTL:PT1H
BEGIN:VTIMEZONE
TZID:UTC
BEGIN:STANDARD
TZOFFSETFROM:+0000
TZOFFSETTO:+0000
TZNAME:UTC
DTSTART:20250101T000000
END:STANDARD
END:VTIMEZONE
BEGIN:VEVENT
DTSTART;TZID=UTC:20260130T131500
DTEND;TZID=UTC:20260130T134500
DTSTAMP:20260420T182210
CREATED:20260216T192916Z
LAST-MODIFIED:20260216T192916Z
UID:18975-1769778900-1769780700@salestaxlady.com
SUMMARY:Temperature Systems Inc. Dealer Meeting
DESCRIPTION:January 30\, 2026\nHVAC Sales & Use Tax Training 1:15-1:45 p.m. Wisteria Rm
URL:https://salestaxlady.com/event/temperature-systems-inc-dealer-meeting/
LOCATION:TSI
CATEGORIES:Events
ATTACH;FMTTYPE=image/png:https://salestaxlady.com/wp-content/uploads/2025/08/Screenshot-2025-08-13-191817.png
END:VEVENT
END:VCALENDAR