BEGIN:VCALENDAR
VERSION:2.0
PRODID:-//Sales Tax Advisory Network - ECPv6.15.20//NONSGML v1.0//EN
CALSCALE:GREGORIAN
METHOD:PUBLISH
X-ORIGINAL-URL:https://salestaxlady.com
X-WR-CALDESC:Events for Sales Tax Advisory Network
REFRESH-INTERVAL;VALUE=DURATION:PT1H
X-Robots-Tag:noindex
X-PUBLISHED-TTL:PT1H
BEGIN:VTIMEZONE
TZID:UTC
BEGIN:STANDARD
TZOFFSETFROM:+0000
TZOFFSETTO:+0000
TZNAME:UTC
DTSTART:20250101T000000
END:STANDARD
END:VTIMEZONE
BEGIN:VEVENT
DTSTART;TZID=UTC:20260505T080000
DTEND;TZID=UTC:20260505T170000
DTSTAMP:20260420T132854
CREATED:20260216T201155Z
LAST-MODIFIED:20260216T201235Z
UID:18999-1777968000-1778000400@salestaxlady.com
SUMMARY:MCDEVCO - WI Sales & Use Tax Workshop
DESCRIPTION:100 N. 72nd Ave\, Wausau WI\nMay 5th & 12th\n6:00-8:00 p.m.\n\nEvents & Programs — MCDEVCO\, Inc. | Business Development in Marathon County\n\nHolly Hoffman is the owner of the Sales Tax Advisory Network. She has bachelor’s and master’s degrees in accounting\, and is a former auditor\, speaker\, and sales tax technical law expert for the WI Department of Revenue.\n\nSales tax is complex and can be costly. Use tax affects your purchases. Tackle the basics with a former auditor!\n\n\nWI sales tax: when to register\, what’s taxable\, exemptions & audit tips\nWI use tax: what’s taxable\, exemptions\, reporting & audit tips\n\n\nRegistration Here 
URL:https://salestaxlady.com/event/mcdevco-wi-sales-use-tax-workshop/
CATEGORIES:Events
ATTACH;FMTTYPE=image/png:https://salestaxlady.com/wp-content/uploads/2026/02/Screenshot-2026-02-16-141108.png
END:VEVENT
END:VCALENDAR