BEGIN:VCALENDAR
VERSION:2.0
PRODID:-//Sales Tax Advisory Network - ECPv6.15.20//NONSGML v1.0//EN
CALSCALE:GREGORIAN
METHOD:PUBLISH
X-WR-CALNAME:Sales Tax Advisory Network
X-ORIGINAL-URL:https://salestaxlady.com
X-WR-CALDESC:Events for Sales Tax Advisory Network
REFRESH-INTERVAL;VALUE=DURATION:PT1H
X-Robots-Tag:noindex
X-PUBLISHED-TTL:PT1H
BEGIN:VTIMEZONE
TZID:UTC
BEGIN:STANDARD
TZOFFSETFROM:+0000
TZOFFSETTO:+0000
TZNAME:UTC
DTSTART:20230101T000000
END:STANDARD
END:VTIMEZONE
BEGIN:VEVENT
DTSTART;TZID=UTC:20241024T000000
DTEND;TZID=UTC:20241024T000000
DTSTAMP:20260421T073224
CREATED:20240906T211357Z
LAST-MODIFIED:20250812T220202Z
UID:18797-1729728000-1729728000@salestaxlady.com
SUMMARY:Navigating WI Sales & Use Tax for Manufacturers
DESCRIPTION:Manufacturers have the highest audit rate of all industries at 18%. Aberdeen Strategy & Research surveyed over 200 manufacturers making $100\,000 to $5 million per year and found that 72% had been audited in the past 5 years. \nManufacturing sales and use tax compliance is complex – learn from a former auditor the important basics to get your company on track with confidence! \n\nSeller’s Permit Requirements\nScope of Manufacturing\nManufacturing Exemptions\nCommon Audit Issues\n\nGreat information\, great tools/handouts\, ask questions\, learn from a technical tax specialist that provided tax trainings across WI for WI Dept of Revenue’s Speaker’s Bureau!
URL:https://salestaxlady.com/event/navigating-wi-sales-use-tax-for-manufacturers/
CATEGORIES:Training
ORGANIZER;CN="Sales Tax Advisory Network%2C LLC":MAILTO:holly@salestaxlady.com
END:VEVENT
END:VCALENDAR