BEGIN:VCALENDAR
VERSION:2.0
PRODID:-//Sales Tax Advisory Network - ECPv6.15.20//NONSGML v1.0//EN
CALSCALE:GREGORIAN
METHOD:PUBLISH
X-WR-CALNAME:Sales Tax Advisory Network
X-ORIGINAL-URL:https://salestaxlady.com
X-WR-CALDESC:Events for Sales Tax Advisory Network
REFRESH-INTERVAL;VALUE=DURATION:PT1H
X-Robots-Tag:noindex
X-PUBLISHED-TTL:PT1H
BEGIN:VTIMEZONE
TZID:UTC
BEGIN:STANDARD
TZOFFSETFROM:+0000
TZOFFSETTO:+0000
TZNAME:UTC
DTSTART:20250101T000000
END:STANDARD
END:VTIMEZONE
BEGIN:VEVENT
DTSTART;TZID=UTC:20260114T200000
DTEND;TZID=UTC:20260114T210000
DTSTAMP:20260420T211745
CREATED:20260216T190852Z
LAST-MODIFIED:20260216T191552Z
UID:18961-1768420800-1768424400@salestaxlady.com
SUMMARY:Home Service Happy Hour w/ Dan Platta Podcast
DESCRIPTION:Clarity Creates Real Progress\nI was a guest at Home Service Happy Hour podcast\, we talked about why business owners get stuck in the weeds and how an outside perspective creates instant clarity. When you step back and see the numbers the way an auditor does\, everything gets simpler. Clarity leads to better systems\, stronger teams\, and real productivity.\n \nListen Now!\n \n\n\nHey there\, Home Service Homies! \nIn this episode\, we dive into sales tax confusion that trips up home service businesses every single day. I’m talking with Holly Hoffman\, the Sales Tax Lady\, about why sales tax feels scary\, how contractors accidentally get it wrong\, and what actually matters when the state comes knocking. If you run a service business and hope sales tax just takes care of itself\, this conversation is going to wake you up. \nWe get into real stories from audits\, CRMs\, field techs making tax decisions\, and how small mistakes quietly turn into big liabilities. We’re breaking down how to set your systems up so your team is not guessing\, your invoices make sense\, and you stop bleeding money in penalties or overpayments. If you want clarity\, confidence\, and fewer letters from the Department of Revenue\, this episode is for you. https://salestaxlady.com/
URL:https://salestaxlady.com/event/home-service-happy-hour-w-dan-platta-podcast/
CATEGORIES:Events
ATTACH;FMTTYPE=image/png:https://salestaxlady.com/wp-content/uploads/2026/02/Screenshot-2026-02-16-130629.png
END:VEVENT
BEGIN:VEVENT
DTSTART;VALUE=DATE:20260121
DTEND;VALUE=DATE:20260123
DTSTAMP:20260420T211745
CREATED:20260216T192418Z
LAST-MODIFIED:20260216T192418Z
UID:18970-1768953600-1769126399@salestaxlady.com
SUMMARY:Mid State Supply Education Days 2026
DESCRIPTION:Mid State Supply Education Days 2026\nWautoma January 21\, 2026\n\n\nMid State Supply Education Days 2026\nGreen Bay January 22\, 2026
URL:https://salestaxlady.com/event/mid-state-supply-education-days-2026/
LOCATION:Mid State Supply
ATTACH;FMTTYPE=image/jpeg:https://salestaxlady.com/wp-content/uploads/2026/02/MSS-When-Service-Matters.jpg
END:VEVENT
BEGIN:VEVENT
DTSTART;TZID=UTC:20260130T131500
DTEND;TZID=UTC:20260130T134500
DTSTAMP:20260420T211745
CREATED:20260216T192916Z
LAST-MODIFIED:20260216T192916Z
UID:18975-1769778900-1769780700@salestaxlady.com
SUMMARY:Temperature Systems Inc. Dealer Meeting
DESCRIPTION:January 30\, 2026\nHVAC Sales & Use Tax Training 1:15-1:45 p.m. Wisteria Rm
URL:https://salestaxlady.com/event/temperature-systems-inc-dealer-meeting/
LOCATION:TSI
CATEGORIES:Events
ATTACH;FMTTYPE=image/png:https://salestaxlady.com/wp-content/uploads/2025/08/Screenshot-2025-08-13-191817.png
END:VEVENT
BEGIN:VEVENT
DTSTART;TZID=UTC:20260305T090000
DTEND;TZID=UTC:20260305T170000
DTSTAMP:20260420T211745
CREATED:20260216T193440Z
LAST-MODIFIED:20260216T193625Z
UID:18978-1772701200-1772730000@salestaxlady.com
SUMMARY:La Crosse Builders Exchange
DESCRIPTION:Thursday\, March 5\, 2026 9:00 a.m.\n709 Gillette St\, La Crosse WI\n\nContractors: Ready to Finally Demystify Sales Tax on Commercial Installations? \n\nIf you’ve ever asked yourself\,\n“Wait… is this a building function or a trade fixture? And why does the sales tax rulebook hate me?”\n—you’re not alone! \n\n\nJoin us for a fast‑paced\, eye‑opening session on building function vs. process function (trade fixture) installations in commercial facilities. We’ll break down the confusing stuff\, tackle real examples\, and make sense of the rules that always seem to trip up contractors. \n\n\nExpect: \n\n\nClear insights on building vs. process functions\nWhat counts as a trade fixture (and why it matters!)\nHow the classification impacts your tax obligations\nA lively discussion with plenty of “Ohhhh… now I get it!” moments\n\n\nIt’s a tricky topic—but we’re going to make it surprisingly fun. \n\n\nBring your questions. Bring your scenarios. Leave with clarity.
URL:https://salestaxlady.com/event/la-crosse-builders-exchange/
LOCATION:La Crosse Builders Exchange\, 709 Gillette St\, La Crosse\, WI\, United States
CATEGORIES:Events
ATTACH;FMTTYPE=image/jpeg:https://salestaxlady.com/wp-content/uploads/2026/02/lax-bx-small.jpg
END:VEVENT
BEGIN:VEVENT
DTSTART;VALUE=DATE:20260311
DTEND;VALUE=DATE:20260316
DTSTAMP:20260420T211745
CREATED:20260216T194308Z
LAST-MODIFIED:20260216T194634Z
UID:18981-1773187200-1773619199@salestaxlady.com
SUMMARY:63rd Wisconsin Association of Campground Owners (WACO) Convention
DESCRIPTION:63rd Wisconsin Association of Campground Owners (WACO) Convention\nMarch 11-15th\, 2026\nHoliday Inn Hotel & Convention Center\, Stevens Point\n2026 WACO Convention & Trade Show – WACO Members\nVisit my booth Friday – Saturday!\n\n\nHolly’s Presentations at WACO Convention:\nThursday\, March 12 @ 3:15 p.m.\nSales Tax for Campground Add‑Ons: Activities\, Amenities & Packages\nMake every extra experience tax‑compliant.\nCampgrounds today offer far more than campsites — from kayak rentals and pool wristbands to meal packages\, seasonal passes\, and bundled experiences. But each add‑on comes with its own sales tax rules\, and getting them wrong can lead to costly surprises.\nJoin us for a focused session that breaks down how to correctly tax popular campground amenities and package deals. Learn the essentials of bundled pricing rules\, recreation activity taxes\, concessions\, memberships\, and more — all tailored to the outdoor hospitality industry.\nStay compliant. Protect your revenue. Elevate your guest experience.\nLearn about:\n\nTax rules for bundled pricing\nRecreation activities (tours\, kayak rentals\, wristbands)\nMeal packages and snack bars\nSeasonal passes and membership programs\n\n  \n  \nFriday\, March 13 @ 8:00 a.m.\nSales Tax Survival for Campgrounds\nA Mock Audit Presentation That Prepares You for the Real Thing\nSales tax for campgrounds can get complicated fast. Join us for a quick‑hit Sales Tax Mock Audit Presentation designed to show you the most common compliance mistakes—before an auditor does.\nWhat You’ll Learn:\n\nThe top campground sales tax mistakes auditors look for\nHow to correctly tax campsites\, cabins\, RV spots\, and add‑on amenities\nBest practices for documentation and recordkeeping\nHow to prepare your business before the state knocks on your door\nTips to reduce risk\, avoid penalties\, and stay compliant year‑round\n\nStay prepared. Stay protected. Keep your campground running smoothly.
URL:https://salestaxlady.com/event/63rd-wisconsin-association-of-campground-owners-waco-convention/
LOCATION:Holiday Inn Hotel & Convention Center\,\, 1001 Amber Avenue\, Stevens Point\, WI\, United States
CATEGORIES:Events
ATTACH;FMTTYPE=image/jpeg:https://salestaxlady.com/wp-content/uploads/2021/12/unnamed-1.jpg
END:VEVENT
BEGIN:VEVENT
DTSTART;TZID=UTC:20260404T120000
DTEND;TZID=UTC:20260404T170000
DTSTAMP:20260420T211745
CREATED:20260216T195324Z
LAST-MODIFIED:20260216T195324Z
UID:18988-1775304000-1775322000@salestaxlady.com
SUMMARY:The Best Marketing Event
DESCRIPTION:The Best Marketing Event\nApril 4\, 2026 @ Noon (MST)\nClark County\, Nevada Public Library\nNevada Sales & Use Tax Tips for Businesses\nLive event\, more info to come!\n\n\nOverview\nBest Marketing’s power hour returns! April 4th with All things Health and Wellness! And Don’t miss out on the afternoon pop-up shop!\n\n\n\nThe Best Marketing Event\nPowered by The Best Cleaning Service + The Library District – Las Vegas Clark County\nConnect with local small businesses\, network with purpose\, and gain vital insights to elevate your professional journey. \nApr 4 Highlights: \n\nHealth\nWellness\nPop-Up Shop featuring community vendor\n\nFree and open to the public. Seating is on a first-come\, first-served basis and may be limited. For more information about The Best Cleaning Service and keynote speakers\, please call 818-861-6477. For more information about library programs\, please call 702.507.3532.
URL:https://salestaxlady.com/event/the-best-marketing-event/
LOCATION:Nevada Public Library\, 2851 East Bonanza Road\, Las Vegas\, NV\, United States
CATEGORIES:Events
ATTACH;FMTTYPE=image/png:https://salestaxlady.com/wp-content/uploads/2026/02/Screenshot-2026-02-16-135231.png
END:VEVENT
BEGIN:VEVENT
DTSTART;VALUE=DATE:20260429
DTEND;VALUE=DATE:20260501
DTSTAMP:20260420T211745
CREATED:20260216T195818Z
LAST-MODIFIED:20260216T200242Z
UID:18992-1777420800-1777593599@salestaxlady.com
SUMMARY:The Business Show US - Miami
DESCRIPTION:April 29-30\, 2026\nMiami Beach Convention Center\n\nHolly Hoffman Sales Tax Lady talks at the Business Show Las vegas\n\n \n30-Apr-2026  14:00 – 14:30 \n Theater 4 Miami\n\n\n\n\n\n\n\n\n\n\n\n\n\n\n\n\n\n\n\n\n\n\n\n\n\n\n\n\n\n\n\n\n\n\n\n\nFrom Risk to Revenue: Sales Tax Planning for Expanding Businesses\n\n\n\n\n\n\n\n\n\n\n\n\n\n\n\n\n\n\n\n\n\n\n\n\n\n\n\n\n\n\n\n\n\n\n\n\n\n\n\n\n\nHolly Hoffman\nFounder & Owner\, Sales Tax Advisory Network\, LLC\n\nHolly Hoffman is a seasoned sales tax professional with 15 years of expertise in tax law and business advisory. As the founder of Sales Tax Advisory Network\, Holly provides employee and business development through sales tax training. She has worked with major companies across various industries\, ensuring their sales tax processes are efficient\, accurate\, and legally sound. The press has taken notice with articles in the Digital Journal\, CEO.com\, and on Founders Future podcast with more to come! \nHolly has received the Presidential Service award (2018) for her service as the elected National Chair of the Taxpayer Advocacy Panel (Federal Advisory Committee to the IRS)\, external customer service award (2018) from the Wisconsin Department of Revenue for her dedication to taxpayer education\, and community service award (2025) from the Wisconsin Institute for CPAs (WICPA) for her dedication and service to service and tax education. \nHolly is a former WI Dept of Revenue auditor\, tax specialist and head of WI Dept of Revenue’s Speaker’s Bureau. She is currently the chair of WICPA’s State and Local Taxation Committee. Holly is active in numerous associations and speaks regularly to business groups around the country on tax law and policy. She has a bachelor’s and master’s degree in accounting. \n\n\n\nRead More and Sign Up Here!  From Risk to Revenue: Sales Tax Planning for Expanding Businesses. Are you expanding your business into new states—or thinking about it—but feeling overwhelmed by the maze of sales tax rules? You’re not alone. In this dynamic and practical session\, […]
URL:https://salestaxlady.com/event/the-business-show-us-miami/
LOCATION:Miami Beach Convention Center
CATEGORIES:Events
ATTACH;FMTTYPE=image/png:https://salestaxlady.com/wp-content/uploads/2026/02/Screenshot-2026-02-16-135741.png
END:VEVENT
BEGIN:VEVENT
DTSTART;TZID=UTC:20260505T080000
DTEND;TZID=UTC:20260505T170000
DTSTAMP:20260420T211745
CREATED:20260216T201155Z
LAST-MODIFIED:20260216T201235Z
UID:18999-1777968000-1778000400@salestaxlady.com
SUMMARY:MCDEVCO - WI Sales & Use Tax Workshop
DESCRIPTION:100 N. 72nd Ave\, Wausau WI\nMay 5th & 12th\n6:00-8:00 p.m.\n\nEvents & Programs — MCDEVCO\, Inc. | Business Development in Marathon County\n\nHolly Hoffman is the owner of the Sales Tax Advisory Network. She has bachelor’s and master’s degrees in accounting\, and is a former auditor\, speaker\, and sales tax technical law expert for the WI Department of Revenue.\n\nSales tax is complex and can be costly. Use tax affects your purchases. Tackle the basics with a former auditor!\n\n\nWI sales tax: when to register\, what’s taxable\, exemptions & audit tips\nWI use tax: what’s taxable\, exemptions\, reporting & audit tips\n\n\nRegistration Here 
URL:https://salestaxlady.com/event/mcdevco-wi-sales-use-tax-workshop/
CATEGORIES:Events
ATTACH;FMTTYPE=image/png:https://salestaxlady.com/wp-content/uploads/2026/02/Screenshot-2026-02-16-141108.png
END:VEVENT
BEGIN:VEVENT
DTSTART;TZID=UTC:20260514T093000
DTEND;TZID=UTC:20260514T153000
DTSTAMP:20260420T211745
CREATED:20260304T173243Z
LAST-MODIFIED:20260304T173558Z
UID:19010-1778751000-1778772600@salestaxlady.com
SUMMARY:2026 Sales Tax Seminar | Green Bay | May 14\, 2026
DESCRIPTION:2026 Sales Tax Seminar\n\n\nHosted by Temperature Systems Inc. \n“Sales & Use Tax Audit: Prepare\, Manage & Prevail”“TSI\, Inc.\, hosts Holly Hoffman\, former WI Dept. of Revenue auditor\, to share her experiences and resources to help you prepare for\, manage\, and prevail over a sales and use tax audit.” \nPresentation Summary– Audit Flags – Are you asking for an audit?– Record Keeping – Your best weapon!– Managing Your Audit – Defending your realm.– Post Audit – A chance for redemption. \nCost: $50.00 Per Attendee \nMadison Dates: 5001 Voges Road\, Madison\, WI 53718Madison | 5/15/2026 | 9:30 AM – 11:30 AM\nMadison | 5/15/2026 | 1:30 PM – 3:30 PM\n\nGreen Bay Dates: 2200 S. Ashland Avenue\, Green Bay\, WI 54304\nGreen Bay | 5/14/2026 | 9:30 AM – 11:30 AM\nGreen Bay | 5/14/2026 | 1:30 PM – 3:30 PM\n\n\n\n\n\n			\n				\n				\n				\n				\n				Register Here! 
URL:https://salestaxlady.com/event/2026-sales-tax-seminar-green-bay-may-14-2026/
CATEGORIES:Events
ATTACH;FMTTYPE=image/png:https://salestaxlady.com/wp-content/uploads/2025/08/Screenshot-2025-08-13-191817.png
END:VEVENT
BEGIN:VEVENT
DTSTART;TZID=UTC:20260515T093000
DTEND;TZID=UTC:20260515T153000
DTSTAMP:20260420T211745
CREATED:20260304T173141Z
LAST-MODIFIED:20260304T173748Z
UID:19008-1778837400-1778859000@salestaxlady.com
SUMMARY:2026 Sales Tax Seminar | Madison | May 15\, 2026
DESCRIPTION:2026 Sales Tax Seminar\n\n\nHosted by Temperature Systems Inc. \n“Sales & Use Tax Audit: Prepare\, Manage & Prevail”“TSI\, Inc.\, hosts Holly Hoffman\, former WI Dept. of Revenue auditor\, to share her experiences and resources to help you prepare for\, manage\, and prevail over a sales and use tax audit.” \nPresentation Summary– Audit Flags – Are you asking for an audit?– Record Keeping – Your best weapon!– Managing Your Audit – Defending your realm.– Post Audit – A chance for redemption. \nCost: $50.00 Per Attendee \nMadison Dates: 5001 Voges Road\, Madison\, WI 53718Madison | 5/15/2026 | 9:30 AM – 11:30 AM\nMadison | 5/15/2026 | 1:30 PM – 3:30 PM\n\nGreen Bay Dates: 2200 S. Ashland Avenue\, Green Bay\, WI 54304\nGreen Bay | 5/14/2026 | 9:30 AM – 11:30 AM\nGreen Bay | 5/14/2026 | 1:30 PM – 3:30 PM\n\n\n\n\n\n\n\n			\n				\n				\n				\n				\n				Register Here! 
URL:https://salestaxlady.com/event/2026-sales-tax-seminar-madison-may-15-2026/
CATEGORIES:Events
ATTACH;FMTTYPE=image/png:https://salestaxlady.com/wp-content/uploads/2025/08/Screenshot-2025-08-13-191817.png
END:VEVENT
BEGIN:VEVENT
DTSTART;VALUE=DATE:20261202
DTEND;VALUE=DATE:20261204
DTSTAMP:20260420T211745
CREATED:20260216T201453Z
LAST-MODIFIED:20260216T201453Z
UID:19004-1796169600-1796342399@salestaxlady.com
SUMMARY:6th Campground Owners EXPO 2026
DESCRIPTION:6th Campground Owners EXPO 2026\nHilton Grand\, Branson MO\nDecember 2-3\, 2026\n\n\nCampground Owners Expo – Campground Owners Expo\nCome visit my booth!\n\nAttend my Presentation:\nMulti-State Sales & Use Tax Tips for Campground Owners\n& Learn more about my multi-state sales tax database for campground owners!
URL:https://salestaxlady.com/event/6th-campground-owners-expo-2026/
CATEGORIES:Events
ATTACH;FMTTYPE=image/png:https://salestaxlady.com/wp-content/uploads/2026/02/Screenshot-2026-02-16-141417.png
END:VEVENT
END:VCALENDAR