BEGIN:VCALENDAR
VERSION:2.0
PRODID:-//Sales Tax Advisory Network - ECPv6.15.20//NONSGML v1.0//EN
CALSCALE:GREGORIAN
METHOD:PUBLISH
X-WR-CALNAME:Sales Tax Advisory Network
X-ORIGINAL-URL:https://salestaxlady.com
X-WR-CALDESC:Events for Sales Tax Advisory Network
REFRESH-INTERVAL;VALUE=DURATION:PT1H
X-Robots-Tag:noindex
X-PUBLISHED-TTL:PT1H
BEGIN:VTIMEZONE
TZID:UTC
BEGIN:STANDARD
TZOFFSETFROM:+0000
TZOFFSETTO:+0000
TZNAME:UTC
DTSTART:20250101T000000
END:STANDARD
END:VTIMEZONE
BEGIN:VEVENT
DTSTART;TZID=UTC:20260505T080000
DTEND;TZID=UTC:20260505T170000
DTSTAMP:20260421T055121
CREATED:20260216T201155Z
LAST-MODIFIED:20260216T201235Z
UID:18999-1777968000-1778000400@salestaxlady.com
SUMMARY:MCDEVCO - WI Sales & Use Tax Workshop
DESCRIPTION:100 N. 72nd Ave\, Wausau WI\nMay 5th & 12th\n6:00-8:00 p.m.\n\nEvents & Programs — MCDEVCO\, Inc. | Business Development in Marathon County\n\nHolly Hoffman is the owner of the Sales Tax Advisory Network. She has bachelor’s and master’s degrees in accounting\, and is a former auditor\, speaker\, and sales tax technical law expert for the WI Department of Revenue.\n\nSales tax is complex and can be costly. Use tax affects your purchases. Tackle the basics with a former auditor!\n\n\nWI sales tax: when to register\, what’s taxable\, exemptions & audit tips\nWI use tax: what’s taxable\, exemptions\, reporting & audit tips\n\n\nRegistration Here 
URL:https://salestaxlady.com/event/mcdevco-wi-sales-use-tax-workshop/
CATEGORIES:Events
ATTACH;FMTTYPE=image/png:https://salestaxlady.com/wp-content/uploads/2026/02/Screenshot-2026-02-16-141108.png
END:VEVENT
BEGIN:VEVENT
DTSTART;TZID=UTC:20260514T093000
DTEND;TZID=UTC:20260514T153000
DTSTAMP:20260421T055121
CREATED:20260304T173243Z
LAST-MODIFIED:20260304T173558Z
UID:19010-1778751000-1778772600@salestaxlady.com
SUMMARY:2026 Sales Tax Seminar | Green Bay | May 14\, 2026
DESCRIPTION:2026 Sales Tax Seminar\n\n\nHosted by Temperature Systems Inc. \n“Sales & Use Tax Audit: Prepare\, Manage & Prevail”“TSI\, Inc.\, hosts Holly Hoffman\, former WI Dept. of Revenue auditor\, to share her experiences and resources to help you prepare for\, manage\, and prevail over a sales and use tax audit.” \nPresentation Summary– Audit Flags – Are you asking for an audit?– Record Keeping – Your best weapon!– Managing Your Audit – Defending your realm.– Post Audit – A chance for redemption. \nCost: $50.00 Per Attendee \nMadison Dates: 5001 Voges Road\, Madison\, WI 53718Madison | 5/15/2026 | 9:30 AM – 11:30 AM\nMadison | 5/15/2026 | 1:30 PM – 3:30 PM\n\nGreen Bay Dates: 2200 S. Ashland Avenue\, Green Bay\, WI 54304\nGreen Bay | 5/14/2026 | 9:30 AM – 11:30 AM\nGreen Bay | 5/14/2026 | 1:30 PM – 3:30 PM\n\n\n\n\n\n			\n				\n				\n				\n				\n				Register Here! 
URL:https://salestaxlady.com/event/2026-sales-tax-seminar-green-bay-may-14-2026/
CATEGORIES:Events
ATTACH;FMTTYPE=image/png:https://salestaxlady.com/wp-content/uploads/2025/08/Screenshot-2025-08-13-191817.png
END:VEVENT
BEGIN:VEVENT
DTSTART;TZID=UTC:20260515T093000
DTEND;TZID=UTC:20260515T153000
DTSTAMP:20260421T055121
CREATED:20260304T173141Z
LAST-MODIFIED:20260304T173748Z
UID:19008-1778837400-1778859000@salestaxlady.com
SUMMARY:2026 Sales Tax Seminar | Madison | May 15\, 2026
DESCRIPTION:2026 Sales Tax Seminar\n\n\nHosted by Temperature Systems Inc. \n“Sales & Use Tax Audit: Prepare\, Manage & Prevail”“TSI\, Inc.\, hosts Holly Hoffman\, former WI Dept. of Revenue auditor\, to share her experiences and resources to help you prepare for\, manage\, and prevail over a sales and use tax audit.” \nPresentation Summary– Audit Flags – Are you asking for an audit?– Record Keeping – Your best weapon!– Managing Your Audit – Defending your realm.– Post Audit – A chance for redemption. \nCost: $50.00 Per Attendee \nMadison Dates: 5001 Voges Road\, Madison\, WI 53718Madison | 5/15/2026 | 9:30 AM – 11:30 AM\nMadison | 5/15/2026 | 1:30 PM – 3:30 PM\n\nGreen Bay Dates: 2200 S. Ashland Avenue\, Green Bay\, WI 54304\nGreen Bay | 5/14/2026 | 9:30 AM – 11:30 AM\nGreen Bay | 5/14/2026 | 1:30 PM – 3:30 PM\n\n\n\n\n\n\n\n			\n				\n				\n				\n				\n				Register Here! 
URL:https://salestaxlady.com/event/2026-sales-tax-seminar-madison-may-15-2026/
CATEGORIES:Events
ATTACH;FMTTYPE=image/png:https://salestaxlady.com/wp-content/uploads/2025/08/Screenshot-2025-08-13-191817.png
END:VEVENT
BEGIN:VEVENT
DTSTART;VALUE=DATE:20261202
DTEND;VALUE=DATE:20261204
DTSTAMP:20260421T055121
CREATED:20260216T201453Z
LAST-MODIFIED:20260216T201453Z
UID:19004-1796169600-1796342399@salestaxlady.com
SUMMARY:6th Campground Owners EXPO 2026
DESCRIPTION:6th Campground Owners EXPO 2026\nHilton Grand\, Branson MO\nDecember 2-3\, 2026\n\n\nCampground Owners Expo – Campground Owners Expo\nCome visit my booth!\n\nAttend my Presentation:\nMulti-State Sales & Use Tax Tips for Campground Owners\n& Learn more about my multi-state sales tax database for campground owners!
URL:https://salestaxlady.com/event/6th-campground-owners-expo-2026/
CATEGORIES:Events
ATTACH;FMTTYPE=image/png:https://salestaxlady.com/wp-content/uploads/2026/02/Screenshot-2026-02-16-141417.png
END:VEVENT
END:VCALENDAR