BEGIN:VCALENDAR
VERSION:2.0
PRODID:-//Sales Tax Advisory Network - ECPv6.15.20//NONSGML v1.0//EN
CALSCALE:GREGORIAN
METHOD:PUBLISH
X-WR-CALNAME:Sales Tax Advisory Network
X-ORIGINAL-URL:https://salestaxlady.com
X-WR-CALDESC:Events for Sales Tax Advisory Network
REFRESH-INTERVAL;VALUE=DURATION:PT1H
X-Robots-Tag:noindex
X-PUBLISHED-TTL:PT1H
BEGIN:VTIMEZONE
TZID:UTC
BEGIN:STANDARD
TZOFFSETFROM:+0000
TZOFFSETTO:+0000
TZNAME:UTC
DTSTART:20240101T000000
END:STANDARD
END:VTIMEZONE
BEGIN:VEVENT
DTSTART;TZID=UTC:20250909T080000
DTEND;TZID=UTC:20250909T170000
DTSTAMP:20260423T143152
CREATED:20250812T222847Z
LAST-MODIFIED:20250812T223826Z
UID:18910-1757404800-1757437200@salestaxlady.com
SUMMARY:Business & Industry Fall Conference
DESCRIPTION:WICPA Business & Industry Conference\nSept 9\, 2025. 8:00am to 4:50pm (Check-In 7:00am)\, \nBrookfield Conference Center\, 325 S Moorland Rd\, Brookfield\, WI 53005 \nThe Fine Print of Access: The 2021 Digital Goods Sales Tax Shake-Up1:40–2:30 p.m.\nIn late 2021\, the Wisconsin Department of Revenue made a quiet but significant shift in how digital goods—particularly News and Information Products—are taxed. Without legislative action or court rulings\, Publication 240 was revised to focus on taxing access rather than the content itself\, with far-reaching implications for information databases\, even those with only historical data. \nJoin Holly Hoffman\, founder of Sales Tax Advisory Network and former WI Dept. of Revenue auditor\, as she breaks down what changed\, why it matters\, and how accountants can adapt to this evolving tax landscape. With 15 years of expertise\, leadership roles in tax policy\, and recognition from Digital Journal\, CEO.com\, and the Founders Future podcast\, Holly brings clarity and actionable strategies to a complex topic. \n \nSign up and see more here!\n  \nYour Source For Key Updates & Insights on Timely Issues\nAttend this year’s Business & Industry Fall Conference to hear from prominent leaders and experts about the latest updates and insights on key tax policy developments\, estate planning\, the accounting pronouncements update\, cybersecurity\, AI best practices\, changes in manufacturing\, staffing shortages in the CPA profession\, Wisconsin’s digital goods sales tax\, investment opportunities during challenging times\, and more.
URL:https://salestaxlady.com/event/business-industry-fall-conference/
CATEGORIES:Events
ATTACH;FMTTYPE=image/png:https://salestaxlady.com/wp-content/uploads/2025/08/Screenshot-2025-08-12-172629.png
END:VEVENT
BEGIN:VEVENT
DTSTART;TZID=UTC:20250925T133000
DTEND;TZID=UTC:20250925T153000
DTSTAMP:20260423T143152
CREATED:20250814T003724Z
LAST-MODIFIED:20250814T004954Z
UID:18918-1758807000-1758814200@salestaxlady.com
SUMMARY:2025 Sales Tax Seminar | Madison | 9/25/2025
DESCRIPTION:2025 Sales Tax Seminar \nHosted by Temperature Systems Inc. \n“Sales & Use Tax Audit: Prepare\, Manage & Prevail”\n“TSI\, Inc.\, hosts Holly Hoffman\, former WI Dept. of Revenue auditor\, to share her experiences and resources to help you prepare for\, manage\, and prevail over a sales and use tax audit.” \nPresentation Summary\n– Audit Flags – Are you asking for an audit?\n– Record Keeping – Your best weapon!\n– Managing Your Audit – Defending your realm.\n– Post Audit – A chance for redemption. \nCost: $50.00 Per Attendee  Sign Up Here! \nMadison Dates: 5001 Voges Road\, Madison\, WI 53718\nMadison | 9/25/2025 | 9:30 AM – 11:30 AM (FULL) \nMadison | 9/25/2025 | 1:30 PM – 3:30 PM \nGreen Bay Dates: 2200 S. Ashland Avenue\, Green Bay\, WI 54304 \nGreen Bay | 9/26/2025 | 9:30 AM – 11:30 AM (FULL) \nGreen Bay | 10/9/2025 | 9:30 AM – 11:30 AM
URL:https://salestaxlady.com/event/2025-sales-tax-seminar-madison-9-25-2025/
CATEGORIES:Events
ATTACH;FMTTYPE=image/png:https://salestaxlady.com/wp-content/uploads/2025/08/Screenshot-2025-08-13-191817.png
END:VEVENT
BEGIN:VEVENT
DTSTART;TZID=UTC:20250926T093000
DTEND;TZID=UTC:20250926T113000
DTSTAMP:20260423T143152
CREATED:20250814T145539Z
LAST-MODIFIED:20250814T145539Z
UID:18931-1758879000-1758886200@salestaxlady.com
SUMMARY:2025 Sales Tax Seminar | Green Bay | 9/26/2025
DESCRIPTION:2025 Sales Tax Seminar \nHosted by Temperature Systems Inc. \n“Sales & Use Tax Audit: Prepare\, Manage & Prevail”\n“TSI\, Inc.\, hosts Holly Hoffman\, former WI Dept. of Revenue auditor\, to share her experiences and resources to help you prepare for\, manage\, and prevail over a sales and use tax audit.” \nPresentation Summary\n– Audit Flags – Are you asking for an audit?\n– Record Keeping – Your best weapon!\n– Managing Your Audit – Defending your realm.\n– Post Audit – A chance for redemption. \nCost: $50.00 Per Attendee.  Sign up here! \nMadison Dates: 5001 Voges Road\, Madison\, WI 53718\nMadison | 9/25/2025 | 9:30 AM – 11:30 AM (FULL) \nMadison | 9/25/2025 | 1:30 PM – 3:30 PM \nGreen Bay Dates: 2200 S. Ashland Avenue\, Green Bay\, WI 54304 \nGreen Bay | 9/26/2025 | 9:30 AM – 11:30 AM (FULL) \nGreen Bay | 10/9/2025 | 9:30 AM – 11:30 AM
URL:https://salestaxlady.com/event/2025-sales-tax-seminar-green-bay-9-26-2025/
CATEGORIES:Events
ATTACH;FMTTYPE=image/png:https://salestaxlady.com/wp-content/uploads/2025/08/Screenshot-2025-08-13-191817.png
END:VEVENT
END:VCALENDAR