BEGIN:VCALENDAR
VERSION:2.0
PRODID:-//Sales Tax Advisory Network - ECPv6.15.20//NONSGML v1.0//EN
CALSCALE:GREGORIAN
METHOD:PUBLISH
X-ORIGINAL-URL:https://salestaxlady.com
X-WR-CALDESC:Events for Sales Tax Advisory Network
REFRESH-INTERVAL;VALUE=DURATION:PT1H
X-Robots-Tag:noindex
X-PUBLISHED-TTL:PT1H
BEGIN:VTIMEZONE
TZID:UTC
BEGIN:STANDARD
TZOFFSETFROM:+0000
TZOFFSETTO:+0000
TZNAME:UTC
DTSTART:20240101T000000
END:STANDARD
END:VTIMEZONE
BEGIN:VEVENT
DTSTART;TZID=UTC:20251009T093000
DTEND;TZID=UTC:20251009T113000
DTSTAMP:20260422T023812
CREATED:20250814T004743Z
LAST-MODIFIED:20250814T004909Z
UID:18922-1760002200-1760009400@salestaxlady.com
SUMMARY:2025 Sales Tax Seminar | Green Bay | 10/9/2025
DESCRIPTION:2025 Sales Tax Seminar \nHosted by Temperature Systems Inc. \n“Sales & Use Tax Audit: Prepare\, Manage & Prevail”\n“TSI\, Inc.\, hosts Holly Hoffman\, former WI Dept. of Revenue auditor\, to share her experiences and resources to help you prepare for\, manage\, and prevail over a sales and use tax audit.” \nPresentation Summary\n– Audit Flags – Are you asking for an audit?\n– Record Keeping – Your best weapon!\n– Managing Your Audit – Defending your realm.\n– Post Audit – A chance for redemption. \nCost: $50.00 Per Attendee.  Sign up here! \nMadison Dates: 5001 Voges Road\, Madison\, WI 53718\nMadison | 9/25/2025 | 9:30 AM – 11:30 AM (FULL) \nMadison | 9/25/2025 | 1:30 PM – 3:30 PM \nGreen Bay Dates: 2200 S. Ashland Avenue\, Green Bay\, WI 54304 \nGreen Bay | 9/26/2025 | 9:30 AM – 11:30 AM (FULL) \nGreen Bay | 10/9/2025 | 9:30 AM – 11:30 AM
URL:https://salestaxlady.com/event/2025-sales-tax-seminar-green-bay-10-9-2025/
CATEGORIES:Events
ATTACH;FMTTYPE=image/png:https://salestaxlady.com/wp-content/uploads/2025/08/Screenshot-2025-08-13-191817.png
END:VEVENT
BEGIN:VEVENT
DTSTART;TZID=UTC:20251015T131500
DTEND;TZID=UTC:20251015T134500
DTSTAMP:20260422T023812
CREATED:20250814T011305Z
LAST-MODIFIED:20250814T011305Z
UID:18926-1760534100-1760535900@salestaxlady.com
SUMMARY:From Risk to Revenue: Sales Tax Planning for Expanding Businesses
DESCRIPTION: October 15\, 2025\n  1:15 – 1:45 p.m.\n Theater 4 LV\n\nRead More and Sign Up Here! \nFrom Risk to Revenue: Sales Tax Planning for Expanding Businesses\nAre you expanding your business into new states—or thinking about it—but feeling overwhelmed by the maze of sales tax rules? You’re not alone. In this dynamic and practical session\, Holly Hoffman will demystify the complexities of multi-state sales tax and show you how smart planning can be a powerful driver of business growth\, stability\, and peace of mind. \nYou’ll discover: \n– What triggers sales tax obligations in other states—from shipping products to attending trade shows—and how to spot the red flags before they become costly.\n– Three actionable tips to help you manage sales into other states with confidence\, not confusion.\n– Expert tools and resources that simplify compliance\, reduce audit risk\, and support your long-term expansion goals. \nWhether you’re just starting to sell across state lines or already navigating multiple jurisdictions\, this session will equip you with the knowledge and strategies to turn tax risk into a revenue-building advantage. Don’t let fear of audits hold you back—join us and take control of your growth journey! Following the presentation\, speak with Holly at the Sales Tax Advisory Network booth T602 (entrance of the show)!
URL:https://salestaxlady.com/event/from-risk-to-revenue-sales-tax-planning-for-expanding-businesses/
ATTACH;FMTTYPE=image/png:https://salestaxlady.com/wp-content/uploads/2025/08/Screenshot-2025-08-13-195922.png
END:VEVENT
END:VCALENDAR